BEGIN:VCALENDAR
VERSION:2.0
PRODID:spatie/icalendar-generator
DESCRIPTION:Evenementen van 
X-WR-CALDESC:Evenementen van 
REFRESH-INTERVAL;VALUE=DURATION:PT1440M
X-PUBLISHED-TTL:PT1440M
BEGIN:VTIMEZONE
TZID:Etc/GMT+0
BEGIN:STANDARD
DTSTART:20250719T000000Z
TZOFFSETFROM:+0000
TZOFFSETTO:+0000
END:STANDARD
END:VTIMEZONE
BEGIN:VTIMEZONE
TZID:UTC
BEGIN:STANDARD
DTSTART:20250724T044946Z
TZOFFSETFROM:+0000
TZOFFSETTO:+0000
END:STANDARD
END:VTIMEZONE
BEGIN:VEVENT
UID:158-121
DTSTAMP:20260420T044946Z
SUMMARY:H.G.L. 21 - Pomerans 21
LOCATION:
ORGANIZER;CN=admin:MAILTO:apschreuder@gmail.com
DTSTART;TZID=Etc/GMT+0;VALUE=DATE:20260415
DTEND;TZID=Etc/GMT+0;VALUE=DATE:20260416
X-ALT-DESC;FMTTYPE=TEXT/HTML:
CATEGORIES:Pom 21
URL;VALUE=URI:https://depomerans.nl/mc-events/h-g-l-21-pomerans-21/
METHOD:PUBLISH
END:VEVENT
END:VCALENDAR