BEGIN:VCALENDAR
VERSION:2.0
PRODID:spatie/icalendar-generator
DESCRIPTION:Evenementen van 
X-WR-CALDESC:Evenementen van 
REFRESH-INTERVAL;VALUE=DURATION:PT1440M
X-PUBLISHED-TTL:PT1440M
BEGIN:VTIMEZONE
TZID:Etc/GMT+0
BEGIN:STANDARD
DTSTART:20250706T000000Z
TZOFFSETFROM:+0000
TZOFFSETTO:+0000
END:STANDARD
END:VTIMEZONE
BEGIN:VTIMEZONE
TZID:UTC
BEGIN:STANDARD
DTSTART:20250726T085046Z
TZOFFSETFROM:+0000
TZOFFSETTO:+0000
END:STANDARD
END:VTIMEZONE
BEGIN:VEVENT
UID:127-90
DTSTAMP:20260422T085046Z
SUMMARY:H.B.C. 2 - De Pomerans 3
LOCATION:
ORGANIZER;CN=admin:MAILTO:apschreuder@gmail.com
DTSTART;TZID=Etc/GMT+0;VALUE=DATE:20260402
DTEND;TZID=Etc/GMT+0;VALUE=DATE:20260403
X-ALT-DESC;FMTTYPE=TEXT/HTML:
CATEGORIES:Pom 3
URL;VALUE=URI:https://depomerans.nl/mc-events/h-b-c-2-de-pomerans-3/
METHOD:PUBLISH
END:VEVENT
END:VCALENDAR