BEGIN:VCALENDAR
VERSION:2.0
PRODID:spatie/icalendar-generator
DESCRIPTION:Evenementen van 
X-WR-CALDESC:Evenementen van 
REFRESH-INTERVAL;VALUE=DURATION:PT1440M
X-PUBLISHED-TTL:PT1440M
BEGIN:VTIMEZONE
TZID:Etc/GMT+0
BEGIN:STANDARD
DTSTART:20250707T000000Z
TZOFFSETFROM:+0000
TZOFFSETTO:+0000
END:STANDARD
END:VTIMEZONE
BEGIN:VTIMEZONE
TZID:UTC
BEGIN:STANDARD
DTSTART:20250726T102445Z
TZOFFSETFROM:+0000
TZOFFSETTO:+0000
END:STANDARD
END:VTIMEZONE
BEGIN:VEVENT
UID:244-182
DTSTAMP:20260422T102445Z
SUMMARY:Districtsfinale Bandestoten 2e klas
LOCATION:
ORGANIZER;CN=admin:MAILTO:apschreuder@gmail.com
DTSTART;TZID=Etc/GMT+0;VALUE=DATE:20260403
DTEND;TZID=Etc/GMT+0;VALUE=DATE:20260404
X-ALT-DESC;FMTTYPE=TEXT/HTML:
CATEGORIES:PK wedstrijden
URL;VALUE=URI:https://depomerans.nl/mc-events/districtsfinale-bandestoten-2
 e-klas-2/
METHOD:PUBLISH
END:VEVENT
END:VCALENDAR