BEGIN:VCALENDAR
VERSION:2.0
PRODID:spatie/icalendar-generator
DESCRIPTION:Evenementen van 
X-WR-CALDESC:Evenementen van 
REFRESH-INTERVAL;VALUE=DURATION:PT1440M
X-PUBLISHED-TTL:PT1440M
BEGIN:VTIMEZONE
TZID:Etc/GMT+0
BEGIN:STANDARD
DTSTART:20250704T000000Z
TZOFFSETFROM:+0000
TZOFFSETTO:+0000
END:STANDARD
END:VTIMEZONE
BEGIN:VTIMEZONE
TZID:UTC
BEGIN:STANDARD
DTSTART:20250726T090534Z
TZOFFSETFROM:+0000
TZOFFSETTO:+0000
END:STANDARD
END:VTIMEZONE
BEGIN:VEVENT
UID:45-36
DTSTAMP:20260422T090534Z
SUMMARY:De Pomerans 1 - De Brouwerij 4
LOCATION:
ORGANIZER;CN=admin:MAILTO:apschreuder@gmail.com
DTSTART;TZID=Etc/GMT+0;VALUE=DATE:20260331
DTEND;TZID=Etc/GMT+0;VALUE=DATE:20260401
X-ALT-DESC;FMTTYPE=TEXT/HTML:
CATEGORIES:Pom 1
URL;VALUE=URI:https://depomerans.nl/mc-events/de-pomerans-1-de-brouwerij-4/
METHOD:PUBLISH
END:VEVENT
END:VCALENDAR