BEGIN:VCALENDAR
VERSION:2.0
PRODID:spatie/icalendar-generator
DESCRIPTION:Evenementen van 
X-WR-CALDESC:Evenementen van 
REFRESH-INTERVAL;VALUE=DURATION:PT1440M
X-PUBLISHED-TTL:PT1440M
BEGIN:VTIMEZONE
TZID:Etc/GMT+0
BEGIN:STANDARD
DTSTART:20250718T000000Z
TZOFFSETFROM:+0000
TZOFFSETTO:+0000
END:STANDARD
END:VTIMEZONE
BEGIN:VTIMEZONE
TZID:UTC
BEGIN:STANDARD
DTSTART:20250726T104254Z
TZOFFSETFROM:+0000
TZOFFSETTO:+0000
END:STANDARD
END:VTIMEZONE
BEGIN:VEVENT
UID:129-92
DTSTAMP:20260422T104254Z
SUMMARY:De Boerhoorn 1 - De Pomerans 3
LOCATION:
ORGANIZER;CN=admin:MAILTO:apschreuder@gmail.com
DTSTART;TZID=Etc/GMT+0;VALUE=DATE:20260414
DTEND;TZID=Etc/GMT+0;VALUE=DATE:20260415
X-ALT-DESC;FMTTYPE=TEXT/HTML:
CATEGORIES:Pom 3
URL;VALUE=URI:https://depomerans.nl/mc-events/de-boerhoorn-1-de-pomerans-3/
METHOD:PUBLISH
END:VEVENT
END:VCALENDAR